BEGIN:VCALENDAR
VERSION:2.0
PRODID:-//ICEMA - ECPv6.15.14//NONSGML v1.0//EN
CALSCALE:GREGORIAN
METHOD:PUBLISH
X-WR-CALNAME:ICEMA
X-ORIGINAL-URL:https://icema.sbcounty.gov
X-WR-CALDESC:Events for ICEMA
REFRESH-INTERVAL;VALUE=DURATION:PT1H
X-Robots-Tag:noindex
X-PUBLISHED-TTL:PT1H
BEGIN:VTIMEZONE
TZID:America/Los_Angeles
BEGIN:DAYLIGHT
TZOFFSETFROM:-0800
TZOFFSETTO:-0700
TZNAME:PDT
DTSTART:20240310T100000
END:DAYLIGHT
BEGIN:STANDARD
TZOFFSETFROM:-0700
TZOFFSETTO:-0800
TZNAME:PST
DTSTART:20241103T090000
END:STANDARD
BEGIN:DAYLIGHT
TZOFFSETFROM:-0800
TZOFFSETTO:-0700
TZNAME:PDT
DTSTART:20250309T100000
END:DAYLIGHT
BEGIN:STANDARD
TZOFFSETFROM:-0700
TZOFFSETTO:-0800
TZNAME:PST
DTSTART:20251102T090000
END:STANDARD
BEGIN:DAYLIGHT
TZOFFSETFROM:-0800
TZOFFSETTO:-0700
TZNAME:PDT
DTSTART:20260308T100000
END:DAYLIGHT
BEGIN:STANDARD
TZOFFSETFROM:-0700
TZOFFSETTO:-0800
TZNAME:PST
DTSTART:20261101T090000
END:STANDARD
END:VTIMEZONE
BEGIN:VEVENT
DTSTART;TZID=America/Los_Angeles:20251211T130000
DTEND;TZID=America/Los_Angeles:20251211T150000
DTSTAMP:20260421T140009
CREATED:20251211T194945Z
LAST-MODIFIED:20251211T200238Z
UID:15452-1765458000-1765465200@icema.sbcounty.gov
SUMMARY:MAC MEETING (TEAMS ONLY)
DESCRIPTION:DECEMBER 11\, 2025 MEETING WILL BE ONLINE ONLY. SEE LINK BELOW \n______________________________________________________________________________ \nMicrosoft Teams Need help? \nJoin the meeting now \nMeeting ID: 275 213 348 456 0 \nPasscode: kX2RF3gC \nDial in by phone \n+1 661-568-6806\,\,621471734# United States\, Santa Clara \nFind a local number \nPhone conference ID: 621 471 734# \nFor organizers: Meeting options | Reset dial-in PIN \n________________________________________________________________________________
URL:https://icema.sbcounty.gov/event/mac-meeting-teams-only/
END:VEVENT
END:VCALENDAR